BEGIN:VCALENDAR
VERSION:2.0
PRODID:-//wp-events-plugin.com//7.2.3.1//EN
TZID:America/Danmarkshavn
X-WR-TIMEZONE:America/Danmarkshavn
BEGIN:VEVENT
UID:25@staging.laerkegaard.com
DTSTART;TZID=America/Danmarkshavn:20251212T180000
DTEND;TZID=America/Danmarkshavn:20251212T213000
DTSTAMP:20251202T110733Z
URL:https://staging.laerkegaard.com/events/faellesspisning-med-flaeskesteg
 -og-hele-molevitten/
SUMMARY:Fællesspisning med flæskesteg og hele molevitten d 12/12-2025 - U
 dsolgt
DESCRIPTION:Billetter: https://staging.laerkegaard.com/vare/faellesspisning
 -med/\n\nBilletter børn: https://staging.laerkegaard.com/vare/faellesspi
 sning-med-flaeskesteg-og-hele-molevitten-d-12-12-2025-barn/\nDenne Fredag 
 byder vi på Gammeldags Flæskesteg med julesovs\, hvide- &amp\; brune kar
 tofler\, hjemmelavet rødkål &amp\; dertil surt\nFællesspisning er en af
 ten hvor du kan spise sammen med familie\, venner og naboer.Vi sørger for
  et lækkert måltid ved langborde og maden serveres enten på bordet elle
 r som buffet.\nDer kan købes en ris a lamande til kaffen ved behov\nDrikk
 evarer købes i baren.\nSpisningen starter kl 18 og slutter senest kl 21.3
 0\nBilletter købes enten på vores hjemmeside eller i cafeen pris 179 kr 
 Børn 109 kr pr person\nTilmelding sker automatisk når du køber en bille
 t. OBS børnebillet (2-12år) købes på selvstændigt link i webshoppen!\
 nBilletsalg slutter onsdagen før eventet\nHvis du vil sidde sammen med be
 stemte deltagere\, råder vi til at komme i god tid\, når vi åbner døre
 ne kl 17.30.\nBilletter må gerne gives videre\, men refunderes ikke indti
 l 14 dage før eventet.\nVed færre end 20 deltagere\, aflyses eventet\nFa
 cebook event: https://fb.me/e/4Jn436Oh9\n
ATTACH;FMTTYPE=image/jpeg:https://staging.laerkegaard.com/wp-content/uploa
 ds/2025/01/9A6F3D03-634A-47F9-B99B-AA43D0CD05A0_1_201_a.jpeg
LOCATION:Lærkegård\, Markebækvej 2\, Skævinge\, Danmark\, 3320\, Denmar
 k
X-APPLE-STRUCTURED-LOCATION;VALUE=URI;X-ADDRESS=Markebækvej 2\, Skævinge\
 , Danmark\, 3320\, Denmark;X-APPLE-RADIUS=100;X-TITLE=Lærkegård:geo:0,0
END:VEVENT
BEGIN:VTIMEZONE
TZID:America/Danmarkshavn
X-LIC-LOCATION:America/Danmarkshavn
BEGIN:STANDARD
DTSTART:20241212T180000
TZOFFSETFROM:+0000
TZOFFSETTO:+0000
TZNAME:GMT
END:STANDARD
END:VTIMEZONE
END:VCALENDAR