BEGIN:VCALENDAR
VERSION:2.0
PRODID:-//wp-events-plugin.com//7.2.3.1//EN
TZID:America/Danmarkshavn
X-WR-TIMEZONE:America/Danmarkshavn
BEGIN:VEVENT
UID:26@staging.laerkegaard.com
DTSTART;TZID=America/Danmarkshavn:20251024T180000
DTEND;TZID=America/Danmarkshavn:20251024T213000
DTSTAMP:20250908T120225Z
URL:https://staging.laerkegaard.com/events/faellesspisning-med-tarteletter
 -d-24-10-2025/
SUMMARY:Fællesspisning med tarteletter & høns i asparges d 24/10-2025
DESCRIPTION:\n\nBilletter: https://staging.laerkegaard.com/vare/faellesspi
 sning-med-tarteletter-d-24-10-2025-voksen/\n\nBørn: https://staging.laer
 kegaard.com/vare/faellesspisning-med-tarteletter-hoens-i-asparges-d-24-10-
 2025-barn/\n\nDenne Fredag byder vi på Tartelet med høns i asparges med 
 grøn salat\n\nFællesspisning er en aften hvor du kan spise sammen med fa
 milie\, venner og naboer.\nVi sørger for et lækkert måltid ved langbord
 e og maden serveres enten på bordet eller som buffet.\n\nDrikkevarer køb
 es i baren\n\nSpisningen starter kl 18 og slutter senest kl 21.30\n\nBille
 tter købes enten på vores hjemmeside eller i cafeen. Tilmelding sker aut
 omatisk når du køber en billet. OBS børnebillet købes på selvstændig
 t link i webshoppen!\nPris 169 kr pr voksen &amp\; 99 kr for børn\n\nBill
 etsalg slutter onsdagen før eventet\nHvis du vil sidde sammen med bestemt
 e deltagere\, råder vi til at komme i god tid\, når vi åbner dørene kl
  17.30.\n\nBilletter må gerne gives videre\, men refunderes ikke indtil 1
 4 dage før eventet.\nVed færre end 20 deltagere\, aflyses eventet\n\nFac
 ebook event:https://fb.me/e/5nBnmA5Cx\n\n\n
ATTACH;FMTTYPE=image/jpeg:https://staging.laerkegaard.com/wp-content/uploa
 ds/2023/11/8D9A88FA-E6FD-4D0E-BD78-350FF8B039DE.jpeg
LOCATION:Lærkegård\, Markebækvej 2\, Skævinge\, Danmark\, 3320\, Denmar
 k
X-APPLE-STRUCTURED-LOCATION;VALUE=URI;X-ADDRESS=Markebækvej 2\, Skævinge\
 , Danmark\, 3320\, Denmark;X-APPLE-RADIUS=100;X-TITLE=Lærkegård:geo:0,0
END:VEVENT
BEGIN:VTIMEZONE
TZID:America/Danmarkshavn
X-LIC-LOCATION:America/Danmarkshavn
BEGIN:STANDARD
DTSTART:20241024T180000
TZOFFSETFROM:+0000
TZOFFSETTO:+0000
TZNAME:GMT
END:STANDARD
END:VTIMEZONE
END:VCALENDAR