BEGIN:VCALENDAR
VERSION:2.0
PRODID:-//wp-events-plugin.com//7.2.3.1//EN
TZID:America/Danmarkshavn
X-WR-TIMEZONE:America/Danmarkshavn
BEGIN:VEVENT
UID:32@staging.laerkegaard.com
DTSTART;TZID=America/Danmarkshavn:20250807T150000
DTEND;TZID=America/Danmarkshavn:20250807T180000
DTSTAMP:20250723T205023Z
URL:https://staging.laerkegaard.com/events/familiekoncert-for-boern-paa-la
 erkegaard-cirkus-paa-rosingade-med-mads-kronborg-andreas-brunsborg/
SUMMARY:Aflyst - Familiekoncert for børn på Lærkegård - Cirkus på Rosi
 ngade med Mads Kronborg & Andreas Brunsborg
DESCRIPTION:Aflyst grundet manglende tilmelding\n\nHyggelig familieKoncert 
 for børn ml 3-8 år\, d 7 august 2025 kl 16-17 \nDørene åbner kl 15 og 
 lukker igen kl 18\nPris 175 kr pr person (der skal købes billet både til
  børn og voksne) Billetter købes på billetlink eller i cafeen\n\nKøb b
 illet her: https://staging.laerkegaard.com/vare/familiekoncert-for-boern-
 paa-laerkegaard-cirkus-paa-rosingade/\n\nFamiliekoncerterne og musikken fr
 a Rosingade er primært lavet til børn mellem 3 og 8 år\, men hele famil
 ien kan være med! "Cirkus på Rosingade" er en forestilling af Mads Kronb
 org og tryllekunstneren Andreas Brunsborg med sange\, magi og en historie 
 om hvad der skete da en cirkusartist flyttede ind på vejen lige op til de
 n store gade-olympiade.\nhttps://youtu.be/cBi829HalUY?si=BedB-4iKWC0oBeoL\
 n\nProgram\nkl 15 åbner dørene i cafeen\nkl 16 - 17 koncert\nkl 18 Hele 
 arrangementet slutter\n\nDer kan købes kolde og varme drikkevarer\, is\, 
 kage og børnevenlige retter før\, under og efter koncerten.\n\nEventside
 r:\n\nhttps://www.instagram.com/reel/DGde3d9sGqw/?utm_source=ig_web_copy_l
 ink&amp\;igsh=MzRlODBiNWFlZA==\n\nhttps://fb.me/e/4uj2Wbow9\n\n(OBS egne m
 ad- og drikkevarer må ikke medtages)\nved færre end 30 deltagere\, aflys
 es koncerten\n
ATTACH;FMTTYPE=image/jpeg:https://staging.laerkegaard.com/wp-content/uploa
 ds/2025/02/cover_rosingade.CGhVTs90_24KiND.webp
LOCATION:Lærkegård\, Markebækvej 2\, Skævinge\, Danmark\, 3320\, Denmar
 k
X-APPLE-STRUCTURED-LOCATION;VALUE=URI;X-ADDRESS=Markebækvej 2\, Skævinge\
 , Danmark\, 3320\, Denmark;X-APPLE-RADIUS=100;X-TITLE=Lærkegård:geo:0,0
END:VEVENT
BEGIN:VTIMEZONE
TZID:America/Danmarkshavn
X-LIC-LOCATION:America/Danmarkshavn
BEGIN:STANDARD
DTSTART:20240807T150000
TZOFFSETFROM:+0000
TZOFFSETTO:+0000
TZNAME:GMT
END:STANDARD
END:VTIMEZONE
END:VCALENDAR