BEGIN:VCALENDAR
VERSION:2.0
PRODID:-//wp-events-plugin.com//7.2.3.1//EN
TZID:America/Danmarkshavn
X-WR-TIMEZONE:America/Danmarkshavn
BEGIN:VEVENT
UID:9@staging.laerkegaard.com
DTSTART;TZID=America/Danmarkshavn:20240211T143000
DTEND;TZID=America/Danmarkshavn:20240211T170000
DTSTAMP:20240229T221430Z
URL:https://staging.laerkegaard.com/events/fastelavn-toendeslagning/
SUMMARY:Fastelavn - Tøndeslagning
DESCRIPTION:Kom til fastelavn og tøndeslagning for børn på Lærkegård\n
 OBS Tøndeslagning foregår udenfor (medmindre det er helt håbløst vejr)
 \nProgram:\nkl 14.30 tøndeslagning for de mindste (0-5 år) (paptønde)\n
 kl 15.00 tøndeslagning for større børn (5-12 år)\nDer vil blive kåret
  en kattekonge &amp\; -dronning for hver tønde og der er slik i tønderne
  til børnene.\nBILLETTER: Pris 60 kr pr barn- Der købes kun billet på b
 illet link eller i cafeen til barnet der deltager (ikke de voksne) og skri
 v gerne hvilken aldersgruppe det tilhører.\nBilletter kan også købes ve
 d at kontakte os pr tlf eller mail\nKagemontren vil byde på et udvidet ud
 valg af fastelavnsboller til store og små og der kan købes lækre kaffes
 pecialiteter og drikkevarer i cafeen.\nCafeen lukker som sædvanligt kl 17
 \nkom gerne udklædt\n
LOCATION:Lærkegård\, Markebækvej 2\, Skævinge\, 3320\, Denmark
X-APPLE-STRUCTURED-LOCATION;VALUE=URI;X-ADDRESS=Markebækvej 2\, Skævinge\
 , 3320\, Denmark;X-APPLE-RADIUS=100;X-TITLE=Lærkegård:geo:0,0
END:VEVENT
BEGIN:VTIMEZONE
TZID:America/Danmarkshavn
X-LIC-LOCATION:America/Danmarkshavn
BEGIN:STANDARD
DTSTART:20230211T143000
TZOFFSETFROM:+0000
TZOFFSETTO:+0000
TZNAME:GMT
END:STANDARD
END:VTIMEZONE
END:VCALENDAR