BEGIN:VCALENDAR
VERSION:2.0
PRODID:-//wp-events-plugin.com//7.2.3.1//EN
TZID:America/Danmarkshavn
X-WR-TIMEZONE:America/Danmarkshavn
BEGIN:VEVENT
UID:1@staging.laerkegaard.com
DTSTART;TZID=America/Danmarkshavn:20240828T190000
DTEND;TZID=America/Danmarkshavn:20240828T210000
DTSTAMP:20240318T114040Z
URL:https://staging.laerkegaard.com/events/foredrag-den-forsvundne-landgre
 n-og-slagtemesteren/
SUMMARY:Foredrag - Den forsvundne Landgren og slagtemesteren
DESCRIPTION:Foredrag om dramaet i Skævinge: Den forsvundne Landgren og sla
 gtermesteren v/Journalist Jens Meyer\nForedraget finder sted på Lærkegå
 rd i Skævinge D.28/8 2024 kl 19-21. Der vil være mulighed for at købe k
 affe\, kolde drikkevarer og udvalgte kager i cafe´en. Tilmelding efter f
 ørst-til-mølle igennem billetto eller ved henvendelse til Lærkegård\nS
 PISNING FØR FOREDRAGET kl 18: Der vil være mulighed for at spise før fo
 redraget\, bestillinger sker senest en uge før foredraget til Lærkegård
 \, betaling på dagen.\nMenu: Hvidløgsmarineret laksefilet med kold råma
 rineret kartoffelsalat\, hjemmerørt dressing\, husets salat og brød pris
  169 kr\n\nKøb billet til foredraget i vores webshop her\n-------\nÅret 
 er 1953. Vi befinder os i Skævinge. Det er fredag den 30. januar\, og sel
 vom det er både mørkt og koldt\, har flere lokale borgere sat kurs mod J
 ernbanevej\, hvor Skævinge Kro lokker med både lys og varme i krostuen o
 g badminton i de tilstødende lokaler.\nKrostuen er godt fyldt op. Der er 
 gang i snakken\, og kroejer Gunnar Sigvartsen har travlt med at servere ø
 l til kroens mange gæster.\nTo af gæsterne\, der har taget plads i krost
 uen\, er arbejdsmanden Harald Rasmus Kahr Landgren og den lokale slagterme
 ster\, Mogens Rasmussen. De to mænd sidder sammen\, og ingen af de andre 
 gæster observerer noget usædvanligt ved bordet\, hvor de sidder. Men omk
 ring kl. 23.00 bemærker flere af de andre gæster\, at de to mænd og sla
 gtermesterens søn\, som i løbet af aftenen har tilsluttet sig selskabet 
 efter at have spillet badminton\, forlader krostuen. De går alle tre i re
 tning mod slagtermesterens ejendom\, der ligger tæt på kroen.\nSenere p
 å aftenen slutter en af de andre krogæster sig til den lille flok\, der 
 er taget hen til slagtermesterens ejendom. Han får sig en øl i slagterme
 sterens køkken sammen med slagtermesteren og Landgren\, men forlader efte
 rfølgende køkkenet og de to mænd. Siden den aften har ingen hørt eller
  set noget til Landgren. Han forsvinder sporløst.\nLandgren bliver efter 
 nogle uger meldt savnet hos politiet\, og mistanken falder hurtigt på sla
 gtermesteren. Et par måneder efter Landgrens forsvinden\, den 18. marts 1
 953\, kommer politiet forbi slagtermesterens bolig for at tale med ham. Me
 n da han ser politiet\, løber han op i husets soveværelse på førstesal
 en. Her skyder han sig selv med et jagtgevær. Sagen bliver efterfølgende
  henlagt og betragtet som opklaret. Men Landgren bliver aldrig fundet.\nJe
 g har som journalist gravet meget dybt i sagen og i politiets grundige eft
 erforskning. Jeg har også interviewet mennesker\, der selv var tæt på b
 egivenhederne eller har fået fortalt historien fra familiemedlemmer\, der
  dengang var tæt på sagen og de involverede personer. Jeg vil prøve at 
 forklare\, hvad der gik forud for\, at Landgren forsvandt sporløst\, og s
 lagtermesteren endte med at tage sit eget liv. I årtier har sagen været 
 tabubelagt for mange lokale borgere i Skævinge\, der var tæt på begiven
 hederne for nu over 70 år siden.
LOCATION:Lærkegård\, Markebækvej 2\, Skævinge\, Danmark\, 3320\, Denmar
 k
X-APPLE-STRUCTURED-LOCATION;VALUE=URI;X-ADDRESS=Markebækvej 2\, Skævinge\
 , Danmark\, 3320\, Denmark;X-APPLE-RADIUS=100;X-TITLE=Lærkegård:geo:0,0
END:VEVENT
BEGIN:VTIMEZONE
TZID:America/Danmarkshavn
X-LIC-LOCATION:America/Danmarkshavn
BEGIN:STANDARD
DTSTART:20230829T190000
TZOFFSETFROM:+0000
TZOFFSETTO:+0000
TZNAME:GMT
END:STANDARD
END:VTIMEZONE
END:VCALENDAR