BEGIN:VCALENDAR
VERSION:2.0
PRODID:-//wp-events-plugin.com//7.2.3.1//EN
TZID:America/Danmarkshavn
X-WR-TIMEZONE:America/Danmarkshavn
BEGIN:VEVENT
UID:16@staging.laerkegaard.com
DTSTART;TZID=America/Danmarkshavn:20241115T180000
DTEND;TZID=America/Danmarkshavn:20241115T220000
DTSTAMP:20240321T222042Z
URL:https://staging.laerkegaard.com/events/fredagsfaellesspisning-paa-laer
 kegaard-7/
SUMMARY:Fredagsfællesspisning på Lærkegård
DESCRIPTION:\n\nTartelet med høns i asparges med grøn salat\n\n\nFælless
 pisning er en aften hvor du kan spise sammen med familie\, venner og naboe
 r.\n\nVi sørger for et lækkert måltid ved langborde og maden serveres e
 nten på bordet eller som buffet.\n\nDrikkevarer købes i baren\, men det 
 er også muligt at drikke postevand her fra Skævinge helt gratis.\n\nBill
 etter købes enten på vores hjemmeside eller i cafeen. Tilmelding sker au
 tomatisk når du køber en billet.\n\nHvis du vil sidde sammen med bestemt
 e deltagere\, råder vi til at komme i god tid\, når vi åbner dørene kl
  17.30.\n\n\n\n\nBilletpris voksen 149 DKK og Børn 99 DKK. Billetter kan 
 købes gebyrfrit i cafeen eller her i vores webshop\n\n\n\n
LOCATION:Lærkegård\, Markebækvej 2\, Skævinge\, 3320\, Denmark
X-APPLE-STRUCTURED-LOCATION;VALUE=URI;X-ADDRESS=Markebækvej 2\, Skævinge\
 , 3320\, Denmark;X-APPLE-RADIUS=100;X-TITLE=Lærkegård:geo:0,0
END:VEVENT
BEGIN:VTIMEZONE
TZID:America/Danmarkshavn
X-LIC-LOCATION:America/Danmarkshavn
BEGIN:STANDARD
DTSTART:20231116T180000
TZOFFSETFROM:+0000
TZOFFSETTO:+0000
TZNAME:GMT
END:STANDARD
END:VTIMEZONE
END:VCALENDAR