BEGIN:VCALENDAR
VERSION:2.0
PRODID:-//wp-events-plugin.com//7.2.3.1//EN
TZID:America/Danmarkshavn
X-WR-TIMEZONE:America/Danmarkshavn
BEGIN:VEVENT
UID:17@staging.laerkegaard.com
DTSTART;TZID=America/Danmarkshavn:20241213T180000
DTEND;TZID=America/Danmarkshavn:20241213T220000
DTSTAMP:20241118T123227Z
URL:https://staging.laerkegaard.com/events/fredagsfaellesspisning-paa-laer
 kegaard-8/
SUMMARY:Fredagsfællesspisning på Lærkegård med flæskesteg
DESCRIPTION:\n\nGammeldags Flæskesteg med julesovs\, hvide- &amp\; brune k
 artofler\, hjemmelavet rødkål &amp\; dertil surt\n\n\nFællesspisning er
  en aften hvor du kan spise sammen med familie\, venner og naboer.\n\nVi s
 ørger for et lækkert måltid ved langborde og maden serveres enten på b
 ordet eller som buffet.\n\nDrikkevarer købes i baren\, men det er også m
 uligt at drikke postevand her fra Skævinge helt gratis.\n\nBilletter køb
 es enten på vores hjemmeside eller i cafeen. Tilmelding sker automatisk n
 år du køber en billet.\n\nHvis du vil sidde sammen med bestemte deltager
 e\, råder vi til at komme i god tid\, når vi åbner dørene kl 17.30.\n\
 n\n\n\nBilletpris voksen 149 DKK og Børn 99 DKK. Billetter kan købes geb
 yrfrit i cafeen eller her i vores webshop\n\n\n\n
LOCATION:Lærkegård\, Markebækvej 2\, Skævinge\, 3320\, Denmark
X-APPLE-STRUCTURED-LOCATION;VALUE=URI;X-ADDRESS=Markebækvej 2\, Skævinge\
 , 3320\, Denmark;X-APPLE-RADIUS=100;X-TITLE=Lærkegård:geo:0,0
END:VEVENT
BEGIN:VTIMEZONE
TZID:America/Danmarkshavn
X-LIC-LOCATION:America/Danmarkshavn
BEGIN:STANDARD
DTSTART:20231214T180000
TZOFFSETFROM:+0000
TZOFFSETTO:+0000
TZNAME:GMT
END:STANDARD
END:VTIMEZONE
END:VCALENDAR