BEGIN:VCALENDAR
VERSION:2.0
PRODID:-//wp-events-plugin.com//7.2.3.1//EN
TZID:America/Danmarkshavn
X-WR-TIMEZONE:America/Danmarkshavn
BEGIN:VEVENT
UID:2@staging.laerkegaard.com
DTSTART;TZID=America/Danmarkshavn:20240809T180000
DTEND;TZID=America/Danmarkshavn:20240809T220000
DTSTAMP:20240318T113502Z
URL:https://staging.laerkegaard.com/events/grillaften-og-levende-musik-med
 -beatles-buddies/
SUMMARY:Grillaften og levende musik med BEATLES BUDDIES
DESCRIPTION:\n\nKom til en hyggelig grillaften med underholdning af BEATLES
  BUDDIES\nVi tænder op i grillen med et udvalg af div kød\, kylling &amp
 \; pølser - dertil serveres der en lækker tilbehørsbuffet\, inspireret 
 af grønt fra vores egen have\, hjemmebagt brød &amp\; dressinger samt de
 ssert\nDer kan købes fadøl\, specialøl\, øko sodavand &amp\; vine samt
  kaffe\nBEATLES BUDDIES aka Ib &amp\; Kaare står for underholdningen denn
 e aften\nPris 350 kr pr person eksklusiv drikkevarer\nKøb din billet i vo
 res webshop her \, eller køb i cafeen\nOBS hvis vejret er til det\, dækk
 es der op på vores hyggelige terrasse\, ellers rykkes arrangementet ind i
  cafeen\n(Ved færre end 20 tilmeldte\, aflyses arrangementet\n-----------
 -------------------------------------------------------\nBEATLES BUDDIES: 
 Oplev en musikalsk rejse gennem Beatles' tidløse hits med Beatles Buddies
 !\nVi er to entusiastiske tidligere kollegaer\, der deler vores kærlighed
  til den ikoniske musikgruppe.\nVed vores optræden på Lærkegård vil vi
  tage dig med på en rejse fyldt med velkendte sange\, der spænder fra 19
 63 og frem til i dag. Vores repertoire omfatter de største hits\, og vi v
 il binde dem sammen med korte og underholdende kommentarer\, der illustrer
 er gruppens udvikling.\nSæt kryds i kalenderen og oplev nostalgien og gl
 æden ved Beatles-musikken sammen med os. ’\nVelkommen til en aften fyld
 t med tidløs musik og gode minder!
LOCATION:Lærkegård\, Markebækvej 2\, Skævinge\, Danmark\, 3320\, Denmar
 k
X-APPLE-STRUCTURED-LOCATION;VALUE=URI;X-ADDRESS=Markebækvej 2\, Skævinge\
 , Danmark\, 3320\, Denmark;X-APPLE-RADIUS=100;X-TITLE=Lærkegård:geo:0,0
END:VEVENT
BEGIN:VTIMEZONE
TZID:America/Danmarkshavn
X-LIC-LOCATION:America/Danmarkshavn
BEGIN:STANDARD
DTSTART:20230810T180000
TZOFFSETFROM:+0000
TZOFFSETTO:+0000
TZNAME:GMT
END:STANDARD
END:VTIMEZONE
END:VCALENDAR