BEGIN:VCALENDAR
VERSION:2.0
PRODID:-//wp-events-plugin.com//7.2.3.1//EN
TZID:America/Danmarkshavn
X-WR-TIMEZONE:America/Danmarkshavn
BEGIN:VEVENT
UID:34@staging.laerkegaard.com
DTSTART;TZID=America/Danmarkshavn:20251107T180000
DTEND;TZID=America/Danmarkshavn:20251107T210000
DTSTAMP:20250906T104535Z
URL:https://staging.laerkegaard.com/events/jazz-tapas-aften-paa-laerkegaar
 d-7-11-2025-kl-18/
SUMMARY:Jazz & tapas aften på Lærkegård 7/11-2025 kl 18
DESCRIPTION:Køb billet her : https://staging.laerkegaard.com/vare/jazz-ta
 pas-aften-paa-laerkegaard/\n\nKom til en hyggelig aften med Jazz &amp\; ta
 pas på Lærkegård.\nJV Duo\, som består af Jens Stormgaard og Verner Th
 omsen\, kommer fredag den 7 november og spiller noget lækkert musik for o
 s.Svingende jazz\, gamle jazz klassikere og et par svenske folkemelodier i
  svingende udgaver.Vi serverer vores lækre tapas bræt\, som er inklusive
  i prisen\, drikkevarer kan købes i cafeen på aftenen.Maden serveres fra
  kl 18 og JV DUO spiller fra kl 19-21Det bliver top hyggeligt\, og vi glæ
 der os til at se jer\nPris 299 kr pr person (inkl tapas til 1 person)Bille
 tter kan enten købes på billetlink eller direkte i cafeen.\nTapas indeho
 lder: 2 slags pølse\, serano skinke\, laks\, kartoffelgratin\, salte mand
 ler\, oliven\, pesto\, aioli\, kiks &amp\; hjemmebagt brød\nBetingelser: 
 ved mindre end 20 deltagere\, aflyses eventetbilletter refunderes ikke 14 
 dage før eventet\, men må gerne gives videre\n\nFacebook event:https://f
 b.me/e/6asORWmMw
ATTACH;FMTTYPE=image/jpeg:https://staging.laerkegaard.com/wp-content/uploa
 ds/2025/04/13E5AE4E-CD9A-4D9D-9ED6-8CA3EB38606B.jpeg
END:VEVENT
BEGIN:VTIMEZONE
TZID:America/Danmarkshavn
X-LIC-LOCATION:America/Danmarkshavn
BEGIN:STANDARD
DTSTART:20241107T180000
TZOFFSETFROM:+0000
TZOFFSETTO:+0000
TZNAME:GMT
END:STANDARD
END:VTIMEZONE
END:VCALENDAR