BEGIN:VCALENDAR
VERSION:2.0
PRODID:-//wp-events-plugin.com//7.2.3.1//EN
TZID:America/Danmarkshavn
X-WR-TIMEZONE:America/Danmarkshavn
BEGIN:VEVENT
UID:33@staging.laerkegaard.com
DTSTART;TZID=America/Danmarkshavn:20250829T180000
DTEND;TZID=America/Danmarkshavn:20250829T210000
DTSTAMP:20250819T181838Z
URL:https://staging.laerkegaard.com/events/jazz-tapas-aften-paa-laerkegaar
 d/
SUMMARY:Jazz & tapas aften på Lærkegård d 7/11-2025 (ny dato)
DESCRIPTION:Kom til en hyggelig aften med Jazz &amp\; tapas på Lærkegård
 .\n\nPris 299 kr https://staging.laerkegaard.com/vare/jazz-tapas-aften-pa
 a-laerkegaard/\n\nJV Duo\, som består af Jens Stormgaard og Verner Thomse
 n\, kommer fredag den 7 november og spiller noget lækkert musik for os.\n
 Svingende jazz\, gamle jazz klassikere og et par svenske folkemelodier i s
 vingende udgaver.\nVi serverer vores lækre tapas bræt\, som er inklusive
  i prisen\, drikkevarer kan købes i cafeen på aftenen.\nMaden serveres f
 ra kl 18 og JV DUO spiller fra kl 19-21\nDet bliver top hyggeligt\, og vi 
 glæder os til at se jer\n\nPris 299 kr pr person (inkl tapas til 1 person
 )\nBilletter kan enten købes på billetlink eller direkte i cafeen.\n\nTa
 pas indeholder: 2 slags pølse\, serano skinke\, laks\, kartoffelgratin\, 
 salte mandler\, oliven\, pesto\, aioli\, kiks &amp\; hjemmebagt brød\n\nF
 acebook link:  https://fb.me/e/6asORWmMw\n\nBetingelser: ved mindre end 2
 0 deltagere\, aflyses eventet\nbilletter refunderes ikke 14 dage før even
 tet\, men må gerne gives videre
ATTACH;FMTTYPE=image/jpeg:https://staging.laerkegaard.com/wp-content/uploa
 ds/2025/04/13E5AE4E-CD9A-4D9D-9ED6-8CA3EB38606B.jpeg
LOCATION:Lærkegård\, Markebækvej 2\, Skævinge\, Danmark\, 3320\, Denmar
 k
X-APPLE-STRUCTURED-LOCATION;VALUE=URI;X-ADDRESS=Markebækvej 2\, Skævinge\
 , Danmark\, 3320\, Denmark;X-APPLE-RADIUS=100;X-TITLE=Lærkegård:geo:0,0
END:VEVENT
BEGIN:VTIMEZONE
TZID:America/Danmarkshavn
X-LIC-LOCATION:America/Danmarkshavn
BEGIN:STANDARD
DTSTART:20240829T180000
TZOFFSETFROM:+0000
TZOFFSETTO:+0000
TZNAME:GMT
END:STANDARD
END:VTIMEZONE
END:VCALENDAR