BEGIN:VCALENDAR
VERSION:2.0
PRODID:-//wp-events-plugin.com//7.2.3.1//EN
TZID:America/Danmarkshavn
X-WR-TIMEZONE:America/Danmarkshavn
BEGIN:VEVENT
UID:30@staging.laerkegaard.com
DTSTART;TZID=America/Danmarkshavn:20251130T140000
DTEND;TZID=America/Danmarkshavn:20251130T170000
DTSTAMP:20250123T204018Z
URL:https://staging.laerkegaard.com/events/jule-afternoon-tea-d-30-11-2025
 /
SUMMARY:Jule afternoon tea d 30/11-2025
DESCRIPTION:Kom til Jule afternoon tea på Lærkegård i vores hyggelige gi
 ldesal &amp\; cafe\npris 350 kr https://staging.laerkegaard.com/vare/jule
 -afternoon-tea-d-30-11-2025/\n\n(OBS Billetterne kan købes i caféen elle
 r via link)\nDu bliver forkælet af vores dygtige konditor Josephine Albre
 cht (@Josephines_kager) med en lækker kageopsats med forskellige lækre J
 ule inspirerede specialkager\, scone med tilbehør\, små sandwich &amp\; 
 salt minitærte så du skal ikke spise frokost.\nDertil kan du vælge øko
 logisk filterkaffe fra strandvejsristeriet &amp\; afternoon te fra Perchs 
 te handel\nSkriv til os hvem du vil sidde til bords med\, hvis billetter i
 kke købes samlet\nAndre drikkevarer og kaffespecialiteter kan tilkøbes p
 å dagen\nDer er 50 pladser og det gælder som først til mølle \n\nSe f
 lere af Josephines kager på@josephines_kagerhttps://www.instagram.com/jos
 ephines_kager/?hl=da\nDet er ikke muligt at lave elementer med særlige ko
 sthensyn på dette eventVed mindre end 20 deltagere aflyses eventetBillett
 er refunderes ikke 14 dage før eventet men må gerne gives videre\nFacebo
 ok event https://fb.me/e/92i5xkmQd\n\n
ATTACH;FMTTYPE=image/jpeg:https://staging.laerkegaard.com/wp-content/uploa
 ds/2025/01/F6060071-2075-46AD-B838-B5816CF006C2_1_201_a.jpeg
LOCATION:Lærkegård\, Markebækvej 2\, Skævinge\, Danmark\, 3320\, Denmar
 k
X-APPLE-STRUCTURED-LOCATION;VALUE=URI;X-ADDRESS=Markebækvej 2\, Skævinge\
 , Danmark\, 3320\, Denmark;X-APPLE-RADIUS=100;X-TITLE=Lærkegård:geo:0,0
END:VEVENT
BEGIN:VTIMEZONE
TZID:America/Danmarkshavn
X-LIC-LOCATION:America/Danmarkshavn
BEGIN:STANDARD
DTSTART:20241130T140000
TZOFFSETFROM:+0000
TZOFFSETTO:+0000
TZNAME:GMT
END:STANDARD
END:VTIMEZONE
END:VCALENDAR