BEGIN:VCALENDAR
VERSION:2.0
PRODID:-//wp-events-plugin.com//7.2.3.1//EN
TZID:America/Danmarkshavn
X-WR-TIMEZONE:America/Danmarkshavn
BEGIN:VEVENT
UID:22@staging.laerkegaard.com
DTSTART;TZID=America/Danmarkshavn:20250112T140000
DTEND;TZID=America/Danmarkshavn:20250112T170000
DTSTAMP:20241022T091151Z
URL:https://staging.laerkegaard.com/events/jule-afternoon-tea-paa-laerkega
 ard-2/
SUMMARY:Nytårs afternoon tea på Lærkegård
DESCRIPTION:\nKom til nytårs afternoon tea på Lærkegårdpris 349 krbille
 tter købes her i vores webbutik eller i cafeen\nDu bliver forkælet af vo
 res dygtige konditor Josephine Albrecht (@Josephines_kager) med en lækker
  kageopsats med forskellige nytårs inspirerede specialkager\, scone med t
 ilbehør\, et glas bobler\, små sandwich &amp\; salt minitærte så du sk
 al ikke spise frokost.Dertil kan du vælge økologisk filterkaffe fra stra
 ndvejsristeriet &amp\; afternoon te fra Perchs te handel\nSkriv til os hve
 m du vil sidde til bords med\, hvis billetter ikke købes samletAndre drik
 kevarer og kaffespecialiteter kan tilkøbes på dagenDer er 70 pladser og 
 det gælder som først til mølle Se flere af Josephines kager på https
 ://www.instagram.com/josephines_kager/?hl=daved mindre end 15 deltagere af
 lyses eventetbilletter må gerne gives videre\, men refunderes ikke indtil
  14 dage før eventet\n
LOCATION:Lærkegård\, Markebækvej 2\, Skævinge\, Danmark\, 3320\, Denmar
 k
X-APPLE-STRUCTURED-LOCATION;VALUE=URI;X-ADDRESS=Markebækvej 2\, Skævinge\
 , Danmark\, 3320\, Denmark;X-APPLE-RADIUS=100;X-TITLE=Lærkegård:geo:0,0
END:VEVENT
BEGIN:VTIMEZONE
TZID:America/Danmarkshavn
X-LIC-LOCATION:America/Danmarkshavn
BEGIN:STANDARD
DTSTART:20240113T140000
TZOFFSETFROM:+0000
TZOFFSETTO:+0000
TZNAME:GMT
END:STANDARD
END:VTIMEZONE
END:VCALENDAR