BEGIN:VCALENDAR
VERSION:2.0
PRODID:-//wp-events-plugin.com//7.2.3.1//EN
TZID:America/Danmarkshavn
X-WR-TIMEZONE:America/Danmarkshavn
BEGIN:VEVENT
UID:21@staging.laerkegaard.com
DTSTART;TZID=America/Danmarkshavn:20241124T140000
DTEND;TZID=America/Danmarkshavn:20241124T170000
DTSTAMP:20241118T123153Z
URL:https://staging.laerkegaard.com/events/jule-afternoon-tea-paa-laerkega
 ard/
SUMMARY:Jule afternoon tea på Lærkegård UDSOLGT
DESCRIPTION:Kom til jule afternoon tea på Lærkegård\npris 349 krbillette
 r købes her i vores webbutik eller i cafeen\nDu bliver forkælet af vores
  dygtige konditor Josephine Albrecht (@Josephines_kager) med en lækker ka
 geopsats med forskellige jule inspirerede specialkager\, scone med tilbeh
 ør\, små sandwich &amp\; salt minitærte så du skal ikke spise frokost.
 Dertil kan du vælge økologisk filterkaffe fra strandvejsristeriet &amp\;
  afternoon te fra Perchs te handelvi dækker op både i vores hyggelige gi
 ldesal og i cafeenSkriv til os hvem du vil sidde til bords med\, hvis bill
 etter ikke købes samletAndre drikkevarer og kaffespecialiteter kan tilkø
 bes på dagen\nDer er 50 pladser og det gælder som først til mølle \nS
 e flere af Josephines kager på https://www.instagram.com/josephines_kage
 r/?hl=da\nved mindre end 15 deltagere aflyses eventet\nbilletter må gerne
  gives videre\, men refunderes ikke indtil 14 dage før eventet
LOCATION:Lærkegård\, Markebækvej 2\, Skævinge\, Danmark\, 3320\, Denmar
 k
X-APPLE-STRUCTURED-LOCATION;VALUE=URI;X-ADDRESS=Markebækvej 2\, Skævinge\
 , Danmark\, 3320\, Denmark;X-APPLE-RADIUS=100;X-TITLE=Lærkegård:geo:0,0
END:VEVENT
BEGIN:VTIMEZONE
TZID:America/Danmarkshavn
X-LIC-LOCATION:America/Danmarkshavn
BEGIN:STANDARD
DTSTART:20231125T140000
TZOFFSETFROM:+0000
TZOFFSETTO:+0000
TZNAME:GMT
END:STANDARD
END:VTIMEZONE
END:VCALENDAR