BEGIN:VCALENDAR
VERSION:2.0
PRODID:-//wp-events-plugin.com//7.2.3.1//EN
TZID:America/Danmarkshavn
X-WR-TIMEZONE:America/Danmarkshavn
BEGIN:VEVENT
UID:27@staging.laerkegaard.com
DTSTART;TZID=America/Danmarkshavn:20251205T180000
DTEND;TZID=America/Danmarkshavn:20251205T234500
DTSTAMP:20251201T103243Z
URL:https://staging.laerkegaard.com/events/julefrokost-aften-paa-laerkegaa
 rd-d-5-12-2025/
SUMMARY:Julefrokost aften på Lærkegård d 5/12-2025 AFLYST
DESCRIPTION:Billetter: https://staging.laerkegaard.com/vare/julefrokost-af
 ten-paa-laerkegaard-d-5-12-2025/\n\nKom til julefrokost på Lærkegård\, 
 vi byder på lækker julebuffet i vores hyggelige julepyntede cafe.\n\nTag
  venner\, familie eller dine kolleger med til en hyggelig og sjov aften me
 d lækker mad og drikke.\n\nDer kan købes øl/juleøl\, vin\, sodavand og
  kaffe/te og vi står klar til at skabe en god aften med julestemning for 
 jer.\nBilletter købes på vores hjemmeside eller direkte i cafeen\, hvis 
 du køber billetter samlet\, sætter vi jer ved samme bord\, ellers giv be
 sked om hvem du vil sidde sammen med.\n\nMenu: Lærkegårds Julebuffet 20
 25\n\nPris pr person ekskl drikkevarer 499 kr\n\nAftenen slutter kl 24.00\
 n\nEventet aflyses hvis der er mindre end 25 tilmeldte\n\nFacebook event:
  https://fb.me/e/7qA3OXk7m
ATTACH;FMTTYPE=image/jpeg:https://staging.laerkegaard.com/wp-content/uploa
 ds/2025/01/D9A8BDB8-D442-4FB0-AB23-2EF235460682.jpeg
LOCATION:Lærkegård\, Markebækvej 2\, Skævinge\, Danmark\, 3320\, Denmar
 k
X-APPLE-STRUCTURED-LOCATION;VALUE=URI;X-ADDRESS=Markebækvej 2\, Skævinge\
 , Danmark\, 3320\, Denmark;X-APPLE-RADIUS=100;X-TITLE=Lærkegård:geo:0,0
END:VEVENT
BEGIN:VTIMEZONE
TZID:America/Danmarkshavn
X-LIC-LOCATION:America/Danmarkshavn
BEGIN:STANDARD
DTSTART:20241205T180000
TZOFFSETFROM:+0000
TZOFFSETTO:+0000
TZNAME:GMT
END:STANDARD
END:VTIMEZONE
END:VCALENDAR