BEGIN:VCALENDAR
VERSION:2.0
PRODID:-//wp-events-plugin.com//7.2.3.1//EN
TZID:America/Danmarkshavn
X-WR-TIMEZONE:America/Danmarkshavn
BEGIN:VEVENT
UID:5@staging.laerkegaard.com
DTSTART;TZID=America/Danmarkshavn:20240407T130000
DTEND;TZID=America/Danmarkshavn:20240407T170000
DTSTAMP:20240229T220622Z
URL:https://staging.laerkegaard.com/events/laerkegaards-afternoon-tea-2/
SUMMARY:Lærkegårds Afternoon Tea
DESCRIPTION:\nKom til afternoon tea på Lærkegård i vores hyggelige gilde
 sal &amp\; cafe\n\n\nDu bliver forkælet af vores dygtige konditor Josephi
 ne Albrecht (@Josephines_kager) med en lækker kageopsats med forskellige 
 lækre specialkager\, scone med tilbehør\, små sandwich &amp\; salt mini
 tærte så du skal ikke spise frokost.\n\n\nDertil kan du vælge økologis
 k filterkaffe fra strandvejsristeriet &amp\; afternoon te fra Perchs te ha
 ndel\nSkriv til os hvem du vil sidde til bords med\, hvis billetter ikke k
 øbes samlet\nAndre drikkevarer og kaffespecialiteter kan tilkøbes på da
 gen\nDer er 50 pladser og det gælder som først til mølle \n\n\n\nBille
 tpris 350 DKK. Billetter kan købes gebyrfrit her i vores webshop. Kvitter
 ing fra mail benyttes som adgangsbillet.\n\nBilletterne kan også købes i
  caféen\, eller ved at kontakte os på tlf. eller mail\n\n\n\nSe flere af
  Josephines kager på https://www.instagram.com/josephines_kager/?hl=da\n
 Ved mindre end 15 deltagere aflyses eventet\nBilletter refunderes ikke 14 
 dage før eventet\n
LOCATION:Lærkegård\, Markebækvej 2\, Skævinge\, 3320\, Denmark
X-APPLE-STRUCTURED-LOCATION;VALUE=URI;X-ADDRESS=Markebækvej 2\, Skævinge\
 , 3320\, Denmark;X-APPLE-RADIUS=100;X-TITLE=Lærkegård:geo:0,0
END:VEVENT
BEGIN:VTIMEZONE
TZID:America/Danmarkshavn
X-LIC-LOCATION:America/Danmarkshavn
BEGIN:STANDARD
DTSTART:20230408T130000
TZOFFSETFROM:+0000
TZOFFSETTO:+0000
TZNAME:GMT
END:STANDARD
END:VTIMEZONE
END:VCALENDAR