BEGIN:VCALENDAR
VERSION:2.0
PRODID:-//wp-events-plugin.com//7.2.3.1//EN
TZID:America/Danmarkshavn
X-WR-TIMEZONE:America/Danmarkshavn
BEGIN:VEVENT
UID:10@staging.laerkegaard.com
DTSTART;TZID=America/Danmarkshavn:20240830T180000
DTEND;TZID=America/Danmarkshavn:20240830T220000
DTSTAMP:20240321T221751Z
URL:https://staging.laerkegaard.com/events/laerkegaards-faellesspisning-4/
SUMMARY:Fredagsfællesspisning på Lærkegård
DESCRIPTION:\n\nSvampefrikasse’ med ærter &amp\; gulerødder dertil bagt
 e kartofler &amp\; grøn salat (vegetar)\n\n\nFællesspisning er en aften 
 hvor du kan spise sammen med familie\, venner og naboer.\n\nVi sørger for
  et lækkert måltid ved langborde og maden serveres enten på bordet elle
 r som buffet.\n\nDrikkevarer købes i baren\, men det er også muligt at d
 rikke postevand her fra Skævinge helt gratis.\n\nBilletter købes enten p
 å vores hjemmeside eller i cafeen. Tilmelding sker automatisk når du kø
 ber en billet.\n\nHvis du vil sidde sammen med bestemte deltagere\, råder
  vi til at komme i god tid\, når vi åbner dørene kl 17.30.\n\n\n\n\nBil
 letpris voksen 149 DKK og Børn 99 DKK. Billetter kan købes gebyrfrit i c
 afeen eller her i vores webshop\n\n\n\n
LOCATION:Lærkegård\, Markebækvej 2\, Skævinge\, 3320\, Denmark
X-APPLE-STRUCTURED-LOCATION;VALUE=URI;X-ADDRESS=Markebækvej 2\, Skævinge\
 , 3320\, Denmark;X-APPLE-RADIUS=100;X-TITLE=Lærkegård:geo:0,0
END:VEVENT
BEGIN:VTIMEZONE
TZID:America/Danmarkshavn
X-LIC-LOCATION:America/Danmarkshavn
BEGIN:STANDARD
DTSTART:20230831T180000
TZOFFSETFROM:+0000
TZOFFSETTO:+0000
TZNAME:GMT
END:STANDARD
END:VTIMEZONE
END:VCALENDAR