BEGIN:VCALENDAR
VERSION:2.0
PRODID:-//wp-events-plugin.com//7.2.3.1//EN
TZID:America/Danmarkshavn
X-WR-TIMEZONE:America/Danmarkshavn
BEGIN:VEVENT
UID:31@staging.laerkegaard.com
DTSTART;TZID=America/Danmarkshavn:20251110T180000
DTEND;TZID=America/Danmarkshavn:20251110T220000
DTSTAMP:20250217T164743Z
URL:https://staging.laerkegaard.com/events/mortens-aften-3-retters-menu/
SUMMARY:Mortens aften lækker 3 retters menu d 10/11-2025
DESCRIPTION:Kom og deltag en en hyggelig aften her på Lærkegård og spis 
 en lækker 3 retters Mortens aften menu\n\nPris 350 kr\nBørn 2-10 år pri
 s 200 kr (menuen laves i børnevenlig version)\n\nBilletter voksen: https:
 //staging.laerkegaard.com/vare/mortens-aften-la…0-11-2025-voksen/\n\nBø
 rn 2-10 år billet: https://staging.laerkegaard.com/vare/mortens-aften-la
 …25-barn-2-10-aar/\n\nAftenen starter kl 18\, hvor vi serverer en lække
 r 3 retters Mortens aften menu.\n\nMenu\nForret: Cremet aspargessuppe med 
 håndpillede rejer &amp\;\npersille\nHovedret: Mortens and med confiteret 
 andelår &amp\; skiver af\nconfiteret andebryst\, serveret med halvt æble
  med\ngelé\, hvide- &amp\; brunede kartofler\, vores egen\nhjemmelavede r
 ødkål &amp\; surt\, samt andesauce\nDessert: God gammeldags æblekage me
 d flødeskum og gelé\n\nØl\, vin\, sodavand og kaffe kan købes i cafeen
 \nSpisningen starter kl 18 og slutter senest kl 22.00\n\nBilletter købes 
 enten på vores hjemmeside eller i cafeen pris 350 kr Børn 200 kr pr pers
 on\n\n(kvitteringen er din billet)\n\nDer er begrænsede pladser til event
 et\nTilmelding sker automatisk når du køber en billet. OBS børnebillet 
 (2-10 år) købes på selvstændigt link i webshoppen!\nBilletsalg slutter
  onsdagen før eventet\n\nBilletter må gerne gives videre\, men refundere
 s ikke indtil 14 dage før eventet.\nVed færre end 20 deltagere\, aflyses
  eventet\n\nFacebook event: https://fb.me/e/67fYNcm4j
ATTACH;FMTTYPE=image/jpeg:https://staging.laerkegaard.com/wp-content/uploa
 ds/2025/02/Skaermbillede-2025-02-17-kl.-17.12.53.png
END:VEVENT
BEGIN:VTIMEZONE
TZID:America/Danmarkshavn
X-LIC-LOCATION:America/Danmarkshavn
BEGIN:STANDARD
DTSTART:20241110T180000
TZOFFSETFROM:+0000
TZOFFSETTO:+0000
TZNAME:GMT
END:STANDARD
END:VTIMEZONE
END:VCALENDAR