BEGIN:VCALENDAR
VERSION:2.0
PRODID:-//wp-events-plugin.com//7.2.3.1//EN
TZID:America/Danmarkshavn
X-WR-TIMEZONE:America/Danmarkshavn
BEGIN:VEVENT
UID:35@staging.laerkegaard.com
DTSTART;TZID=America/Danmarkshavn:20260104T140000
DTEND;TZID=America/Danmarkshavn:20260104T170000
DTSTAMP:20250925T192630Z
URL:https://staging.laerkegaard.com/events/nytaars-afternoon-tea-paa-laerk
 egaard-d-4-1-2026-kl-14-17/
SUMMARY:Nytårs afternoon tea på Lærkegård d 4/1-2026 kl 14-17
DESCRIPTION:Kom til nytårs afternoon tea på Lærkegårdpris 349 kr\nKøb 
 Billet: https://staging.laerkegaard.com/vare/nytaars-afternoon-tea-paa-la
 erkegaard-d-4-1-2026-kl-14/billetter købes på vores webbutik eller i caf
 een\nDu bliver forkælet af vores dygtige konditor Josephine Albrecht (@Jo
 sephines_kager) med en lækker kageopsats med forskellige nytårs inspirer
 ede specialkager\, scone med tilbehør\, små sandwich &amp\; minitærte s
 amt et glas bobler\, så du skal ikke spise frokost.Dertil kan du vælge 
 økologisk filterkaffe fra strandvejsristeriet &amp\; afternoon te fra Per
 chs te handel\nSkriv til os hvem du vil sidde til bords med\, hvis billett
 er ikke købes samletAndre drikkevarer og kaffespecialiteter kan tilkøbes
  på dagenDer er 70 pladser og det gælder som først til mølle Se flere
  af Josephines kager på https://www.instagram.com/josephines_kager/?hl=d
 aved mindre end 25 deltagere aflyses eventetbilletter må gerne gives vide
 re\, men refunderes ikke indtil 14 dage før eventet\nDet er ikke muligt a
 t lave elementer med særlige kosthensyn på dette event\n\nFacebook: htt
 ps://fb.me/e/cKKGqUQfW
ATTACH;FMTTYPE=image/jpeg:https://staging.laerkegaard.com/wp-content/uploa
 ds/2024/10/BDADCFB5-B665-4E33-9EF8-43969659D807_1_201_a.jpeg
END:VEVENT
BEGIN:VTIMEZONE
TZID:America/Danmarkshavn
X-LIC-LOCATION:America/Danmarkshavn
BEGIN:STANDARD
DTSTART:20250104T140000
TZOFFSETFROM:+0000
TZOFFSETTO:+0000
TZNAME:GMT
END:STANDARD
END:VTIMEZONE
END:VCALENDAR