BEGIN:VCALENDAR
VERSION:2.0
PRODID:-//wp-events-plugin.com//7.2.3.1//EN
TZID:America/Danmarkshavn
X-WR-TIMEZONE:America/Danmarkshavn
BEGIN:VEVENT
UID:24@staging.laerkegaard.com
DTSTART;TZID=America/Danmarkshavn:20251003T180000
DTEND;TZID=America/Danmarkshavn:20251004T003000
DTSTAMP:20250219T104348Z
URL:https://staging.laerkegaard.com/events/oktoberfest-paa-laerkegaard-2/
SUMMARY:Oktoberfest på Lærkegård d 3/10-2025
DESCRIPTION:Oktoberfest på Lærkegård\n\nBilletter: https://staging.laer
 kegaard.com/vare/oktoberfest-paa-laerkegaard/\n\nKom og vær med til en sj
 ov aften med tyrolermusik\, store fadøl\, lækker tyroler mad\, dans og h
 ygge.\n\nBilletten inkluderer Lærkegårds lækre 3 retters oktoberfest me
 nu og en underberg 2 cl\n\nMenu\nForret: Cremet aspargessuppe toppet med b
 acon &amp\;\nhjemmelavet brezel\nHovedret: Schnitzel hertil små smørbagt
 e kartofler med persille\,\nbønnesalat &amp\; hjemmelavet brun sauce.\nDe
 ssert: Mini Æbletrifli med makroner og frisk flødeskum\n\nDørene åbner
  kl 18\nBordene er dækket op til tyrolerfest - giv besked hvis der er øn
 ske om at sidde sammen med nogle andre bestemte deltagere.\n\nDer kan køb
 es fadøl\, div flaskeøl\, vin\, dram\, drinks\, kaffe og snaks i løbet 
 af aftenen.\n\nKom gerne udklædt\, men ikke et krav\nFesten slutter kl 00
 .30\n\nPris 450 kr pr person\nBilletter købes enten i cafeen\, ved kontak
 t pr mail ell tlf\, eller ved billetlink (kvittering er billetten)\n\nDu s
 kal være fyldt 23 år for at deltage\nDer er plads til 50 deltagere i fes
 ten\nGiv besked om særlige kosthensyn\, gerne 1 uge før\nVed færre end 
 25 deltagere\, aflyses eventet\n\nFacebook event https://fb.me/e/2db6cUg9
 W
ATTACH;FMTTYPE=image/jpeg:https://staging.laerkegaard.com/wp-content/uploa
 ds/2025/01/08FE4978-92F3-4A35-BAEE-38EE0310927C.jpeg
LOCATION:Lærkegård\, Markebækvej 2\, Skævinge\, Danmark\, 3320\, Denmar
 k
X-APPLE-STRUCTURED-LOCATION;VALUE=URI;X-ADDRESS=Markebækvej 2\, Skævinge\
 , Danmark\, 3320\, Denmark;X-APPLE-RADIUS=100;X-TITLE=Lærkegård:geo:0,0
END:VEVENT
BEGIN:VTIMEZONE
TZID:America/Danmarkshavn
X-LIC-LOCATION:America/Danmarkshavn
BEGIN:STANDARD
DTSTART:20241003T180000
TZOFFSETFROM:+0000
TZOFFSETTO:+0000
TZNAME:GMT
END:STANDARD
END:VTIMEZONE
END:VCALENDAR