BEGIN:VCALENDAR
VERSION:2.0
PRODID:-//wp-events-plugin.com//7.2.3.1//EN
TZID:America/Danmarkshavn
X-WR-TIMEZONE:America/Danmarkshavn
BEGIN:VEVENT
UID:28@staging.laerkegaard.com
DTSTART;TZID=America/Danmarkshavn:20250427T140000
DTEND;TZID=America/Danmarkshavn:20250427T170000
DTSTAMP:20250123T200802Z
URL:https://staging.laerkegaard.com/events/paaske-afternoon-tea-d-27-4-202
 5/
SUMMARY:Påske afternoon tea d 27/4-2025
DESCRIPTION:Kom til påske afternoon tea på Lærkegård i vores hyggelige 
 gildesal &amp\; cafe\npris 350 kr https://staging.laerkegaard.com/vare/pa
 aske-afternoon-tea-paa-laerkegaard-d-27-4-2025/\n(OBS Billetterne kan køb
 es i caféen eller ved at kontakte os på tlf ell mail)\nDu bliver forkæl
 et af vores dygtige konditor Josephine Albrecht (@Josephines_kager) med en
  lækker kageopsats med forskellige lækre påskeinspirerede specialkager\
 , scone med tilbehør\, små sandwich &amp\; salt minitærte så du skal i
 kke spise frokost.\nDertil kan du vælge økologisk filterkaffe fra strand
 vejsristeriet &amp\; afternoon te fra Perchs te handel\nSkriv til os hvem 
 du vil sidde til bords med\, hvis billetter ikke købes samlet\nAndre drik
 kevarer og kaffespecialiteter kan tilkøbes på dagen\nDer er 50 pladser o
 g det gælder som først til mølle \n\nSe flere af Josephines kager på@
 josephines_kagerhttps://www.instagram.com/josephines_kager/?hl=da\nDet er 
 ikke muligt at lave elementer med særlige kosthensyn på dette eventVed m
 indre end 20 deltagere aflyses eventetBilletter refunderes ikke 14 dage f
 ør eventet men må gerne gives videre\nFacebook event https://fb.me/e/ho
 nAj5CMJ\n
ATTACH;FMTTYPE=image/jpeg:https://staging.laerkegaard.com/wp-content/uploa
 ds/2024/01/C064A6C7-FFC0-4E5A-820A-65296895FE1C-2-scaled.jpg
LOCATION:Lærkegård\, Markebækvej 2\, Skævinge\, Danmark\, 3320\, Denmar
 k
X-APPLE-STRUCTURED-LOCATION;VALUE=URI;X-ADDRESS=Markebækvej 2\, Skævinge\
 , Danmark\, 3320\, Denmark;X-APPLE-RADIUS=100;X-TITLE=Lærkegård:geo:0,0
END:VEVENT
BEGIN:VTIMEZONE
TZID:America/Danmarkshavn
X-LIC-LOCATION:America/Danmarkshavn
BEGIN:STANDARD
DTSTART:20240427T140000
TZOFFSETFROM:+0000
TZOFFSETTO:+0000
TZNAME:GMT
END:STANDARD
END:VTIMEZONE
END:VCALENDAR