BEGIN:VCALENDAR
VERSION:2.0
PRODID:-//wp-events-plugin.com//7.2.3.1//EN
TZID:America/Danmarkshavn
X-WR-TIMEZONE:America/Danmarkshavn
BEGIN:VEVENT
UID:23@staging.laerkegaard.com
DTSTART;TZID=America/Danmarkshavn:20250302T143000
DTEND;TZID=America/Danmarkshavn:20250302T170000
DTSTAMP:20250115T130252Z
URL:https://staging.laerkegaard.com/events/toendeslagning-og-fastelavn-for
 -boern/
SUMMARY:Tøndeslagning og fastelavn for børn d 2/3-2025
DESCRIPTION:BILLETTER: https://staging.laerkegaard.com/vare/toendeslagning
 -og-fastelavn-for-boern/\n\nKom til fastelavn og tøndeslagning for børn 
 på LærkegårdOBS Tøndeslagning foregår udenfor (medmindre det er helt 
 håbløst vejr)\nBILLETTER: Pris 60 kr pr barn- Der købes kun billet på 
 billet link ell i cafeen til barnet der deltager (ikke de voksne) og skriv
  gerne hvilken aldersgruppe det tilhører.Billetter kan også købes ved a
 t kontakte os pr tlf eller mailBilletten inkluderer Tøndeslagning\, en b
 ørne fastelavnsbolle og en brik kakao\nProgram:kl 14.30 tøndeslagning fo
 r de mindste (0-5 år) (paptønde)kl 15.00 tøndeslagning for større bør
 n (5-12 år)Der vil blive kåret en kattekonge &amp\; -dronning for hver t
 ønde og der er slik i tønderne til børnene.\nKagemontren vil byde på e
 t udvidet udvalg af fastelavnsboller til store og små og der kan købes l
 ækre kaffespecialiteter og drikkevarer i cafeen.\nCafeen lukker som sædv
 anligt kl 17\nkom gerne udklædt både børn og voksne\n(Der er 30 billett
 er ialt\, da der typisk kommer mange voksne denne dag)
ATTACH;FMTTYPE=image/jpeg:https://staging.laerkegaard.com/wp-content/uploa
 ds/2024/02/1E58CF48-BEA5-4529-8B70-B55908C04021_1_105_c.jpeg
LOCATION:Lærkegård\, Markebækvej 2\, Skævinge\, Danmark\, 3320\, Denmar
 k
X-APPLE-STRUCTURED-LOCATION;VALUE=URI;X-ADDRESS=Markebækvej 2\, Skævinge\
 , Danmark\, 3320\, Denmark;X-APPLE-RADIUS=100;X-TITLE=Lærkegård:geo:0,0
END:VEVENT
BEGIN:VTIMEZONE
TZID:America/Danmarkshavn
X-LIC-LOCATION:America/Danmarkshavn
BEGIN:STANDARD
DTSTART:20240302T143000
TZOFFSETFROM:+0000
TZOFFSETTO:+0000
TZNAME:GMT
END:STANDARD
END:VTIMEZONE
END:VCALENDAR